BEGIN:VCALENDAR
VERSION:2.0
PRODID:-//MTEA - ECPv6.15.20//NONSGML v1.0//EN
CALSCALE:GREGORIAN
METHOD:PUBLISH
X-ORIGINAL-URL:https://mtea.org
X-WR-CALDESC:Events for MTEA
REFRESH-INTERVAL;VALUE=DURATION:PT1H
X-Robots-Tag:noindex
X-PUBLISHED-TTL:PT1H
BEGIN:VTIMEZONE
TZID:America/Chicago
BEGIN:DAYLIGHT
TZOFFSETFROM:-0600
TZOFFSETTO:-0500
TZNAME:CDT
DTSTART:20250309T080000
END:DAYLIGHT
BEGIN:STANDARD
TZOFFSETFROM:-0500
TZOFFSETTO:-0600
TZNAME:CST
DTSTART:20251102T070000
END:STANDARD
BEGIN:DAYLIGHT
TZOFFSETFROM:-0600
TZOFFSETTO:-0500
TZNAME:CDT
DTSTART:20260308T080000
END:DAYLIGHT
BEGIN:STANDARD
TZOFFSETFROM:-0500
TZOFFSETTO:-0600
TZNAME:CST
DTSTART:20261101T070000
END:STANDARD
BEGIN:DAYLIGHT
TZOFFSETFROM:-0600
TZOFFSETTO:-0500
TZNAME:CDT
DTSTART:20270314T080000
END:DAYLIGHT
BEGIN:STANDARD
TZOFFSETFROM:-0500
TZOFFSETTO:-0600
TZNAME:CST
DTSTART:20271107T070000
END:STANDARD
END:VTIMEZONE
BEGIN:VEVENT
DTSTART;TZID=America/Chicago:20260303T180000
DTEND;TZID=America/Chicago:20260303T200000
DTSTAMP:20260421T200135
CREATED:20260220T214600Z
LAST-MODIFIED:20260220T214600Z
UID:10000338-1772560800-1772568000@mtea.org
SUMMARY:MPS Community Budget Meeting
DESCRIPTION:Superintendent Cassellius and School Board President Zombor are on a public media tour to try and pit MPS workers\, MPS families and the community against each other.  We have seen this shameful tactic from Administration before and MTEA members as always remain in solidarity with MPS families. \nWe will stand together as one union to fight for a full 2.63% cost of living increase on July 1\, 2026\, salary schedule steps and no cuts to healthcare. We know this is the only way to retain and recruit the public education workers our students need to fully staff their schools and classrooms. \nSuperintendent Cassellius will hold Community Budget Meetings where the public can attend and speak to their priorities in the MPS budget.\n\nIt is critical that MTEA members attend one or both of these events to ensure MPS families and our community know the truth. \nTuesday\, February 24 at 6pm at James Madison Academic Campus (JMAC) – 8135 W Florist Ave\nTuesday\, March 3 at 6pm at Riverside High School – 1615 E Locust St \nIt is very important that MTEA members stand together in solidarity every step of the way as we fight for the budget MPS students\, workers\, families and the community deserve.
URL:https://mtea.org/event/mps-community-budget-meeting/2026-03-03/
LOCATION:WI
CATEGORIES:Community
END:VEVENT
END:VCALENDAR