BEGIN:VCALENDAR
VERSION:2.0
PRODID:-//MTEA - ECPv6.15.20//NONSGML v1.0//EN
CALSCALE:GREGORIAN
METHOD:PUBLISH
X-ORIGINAL-URL:https://mtea.org
X-WR-CALDESC:Events for MTEA
REFRESH-INTERVAL;VALUE=DURATION:PT1H
X-Robots-Tag:noindex
X-PUBLISHED-TTL:PT1H
BEGIN:VTIMEZONE
TZID:America/Chicago
BEGIN:DAYLIGHT
TZOFFSETFROM:-0600
TZOFFSETTO:-0500
TZNAME:CDT
DTSTART:20240310T080000
END:DAYLIGHT
BEGIN:STANDARD
TZOFFSETFROM:-0500
TZOFFSETTO:-0600
TZNAME:CST
DTSTART:20241103T070000
END:STANDARD
BEGIN:DAYLIGHT
TZOFFSETFROM:-0600
TZOFFSETTO:-0500
TZNAME:CDT
DTSTART:20250309T080000
END:DAYLIGHT
BEGIN:STANDARD
TZOFFSETFROM:-0500
TZOFFSETTO:-0600
TZNAME:CST
DTSTART:20251102T070000
END:STANDARD
BEGIN:DAYLIGHT
TZOFFSETFROM:-0600
TZOFFSETTO:-0500
TZNAME:CDT
DTSTART:20260308T080000
END:DAYLIGHT
BEGIN:STANDARD
TZOFFSETFROM:-0500
TZOFFSETTO:-0600
TZNAME:CST
DTSTART:20261101T070000
END:STANDARD
END:VTIMEZONE
BEGIN:VEVENT
DTSTART;TZID=America/Chicago:20250410T170000
DTEND;TZID=America/Chicago:20250410T190000
DTSTAMP:20260420T000943
CREATED:20250328T235515Z
LAST-MODIFIED:20250411T145024Z
UID:10000009-1744304400-1744311600@mtea.org
SUMMARY:National Board Support Sessions
DESCRIPTION:All sessions are held on Thursdays from 5-7pm at the MTEA Building.  Registration is required for MTEA/WEAC members\, please fill out form below. \nApril 10\, 2025 – Cutting the Fluff \nLearn strategies for getting your written components down to the required page limit for submission. \nMay 8\, 2025 – Preparing for Submission \nGet tips on compressing videos\, merging files\, and submitting components through the National Board website\, as well as finishing final edits. \n\n                    MTEA - NB Support SessionsFirst NameLast NameSchool/Worksite(s)PhoneHome Email (No MPS emails)Are you enrolled as a National Board candidate or Renewal candidiate? Yes NoAre you a MTEA or MTEA-R Member? Yes NoSessions (Each session is different\, please select one or more) All Sessions September 25\, 2025 - What is National Board Certification? October 22\, 2025 - Getting Started with National Board Certification November 13\, 2025 - Component 2: Differentiation in Instruction December 11\, 2025 - Component 4: Effective Educator January 24\, 2026 - Component 3: Teaching Practice & Learning Environment February 12\, 2026 - Writing for National Boards March 6-8\, 2026 - WEAC Writing Retreat: Wisconsin Dells  March 24\, 2026 - Component 1: Content Knowledge April 9\, 2026 - Cutting the Fluff May 7\, 2026 - Preparing for SubmissionSubmit Form
URL:https://mtea.org/event/national-board-support-sessions/
LOCATION:MTEA Building\, 5130 W. Vliet St.\, Milwaukee\, WI\, 53208\, United States
CATEGORIES:Professional Development (PD)
END:VEVENT
END:VCALENDAR