BEGIN:VCALENDAR
VERSION:2.0
PRODID:-//MTEA - ECPv6.15.20//NONSGML v1.0//EN
CALSCALE:GREGORIAN
METHOD:PUBLISH
X-ORIGINAL-URL:https://mtea.org
X-WR-CALDESC:Events for MTEA
REFRESH-INTERVAL;VALUE=DURATION:PT1H
X-Robots-Tag:noindex
X-PUBLISHED-TTL:PT1H
BEGIN:VTIMEZONE
TZID:America/Chicago
BEGIN:DAYLIGHT
TZOFFSETFROM:-0600
TZOFFSETTO:-0500
TZNAME:CDT
DTSTART:20240310T080000
END:DAYLIGHT
BEGIN:STANDARD
TZOFFSETFROM:-0500
TZOFFSETTO:-0600
TZNAME:CST
DTSTART:20241103T070000
END:STANDARD
BEGIN:DAYLIGHT
TZOFFSETFROM:-0600
TZOFFSETTO:-0500
TZNAME:CDT
DTSTART:20250309T080000
END:DAYLIGHT
BEGIN:STANDARD
TZOFFSETFROM:-0500
TZOFFSETTO:-0600
TZNAME:CST
DTSTART:20251102T070000
END:STANDARD
BEGIN:DAYLIGHT
TZOFFSETFROM:-0600
TZOFFSETTO:-0500
TZNAME:CDT
DTSTART:20260308T080000
END:DAYLIGHT
BEGIN:STANDARD
TZOFFSETFROM:-0500
TZOFFSETTO:-0600
TZNAME:CST
DTSTART:20261101T070000
END:STANDARD
END:VTIMEZONE
BEGIN:VEVENT
DTSTART;TZID=America/Chicago:20250507T170000
DTEND;TZID=America/Chicago:20250507T183000
DTSTAMP:20260419T221940
CREATED:20250414T185417Z
LAST-MODIFIED:20250619T144545Z
UID:10000175-1746637200-1746642600@mtea.org
SUMMARY:MTEA Executive Board
DESCRIPTION:Your MTEA Executive Board meets the first Wednesday of each month at 5:00pm at the MTEA Building. \n9/4/24 \n10/2/24 \n11/6/24 \n12/4/24 \n1/8/25 \n2/5/25 \n3/5/25 \n4/2/25 \n5/7/25 \n6/4/25
URL:https://mtea.org/event/mtea-executive-board-2/2025-05-07/
LOCATION:MTEA Building\, 5130 W. Vliet St.\, Milwaukee\, WI\, 53208\, United States
CATEGORIES:Leadership
END:VEVENT
BEGIN:VEVENT
DTSTART;TZID=America/Chicago:20250508T170000
DTEND;TZID=America/Chicago:20250508T190000
DTSTAMP:20260419T221940
CREATED:20250408T002251Z
LAST-MODIFIED:20250414T185739Z
UID:10000042-1746723600-1746730800@mtea.org
SUMMARY:National Board Support Session
DESCRIPTION:All sessions are held on Thursdays from 5-7pm at the MTEA Building.  Registration is required for MTEA/WEAC members and below session descriptions. \nApril 10\, 2025 – Cutting the Fluff \nLearn strategies for getting your written components down to the required page limit for submission. \nMay 8\, 2025 – Preparing for Submission \nGet tips on compressing videos\, merging files\, and submitting components through the National Board website\, as well as finishing final edits. \n\n                    MTEA - NB Support SessionsFirst NameLast NameSchool/Worksite(s)PhoneHome Email (No MPS emails)Are you enrolled as a National Board candidate or Renewal candidiate? Yes NoAre you a MTEA or MTEA-R Member? Yes NoSessions (Each session is different\, please select one or more) All Sessions September 25\, 2025 - What is National Board Certification? October 22\, 2025 - Getting Started with National Board Certification November 13\, 2025 - Component 2: Differentiation in Instruction December 11\, 2025 - Component 4: Effective Educator January 24\, 2026 - Component 3: Teaching Practice & Learning Environment February 12\, 2026 - Writing for National Boards March 6-8\, 2026 - WEAC Writing Retreat: Wisconsin Dells  March 24\, 2026 - Component 1: Content Knowledge April 9\, 2026 - Cutting the Fluff May 7\, 2026 - Preparing for SubmissionSubmit Form
URL:https://mtea.org/event/national-board-support-session/
LOCATION:MTEA Building\, 5130 W. Vliet St.\, Milwaukee\, WI\, 53208\, United States
CATEGORIES:Professional Development (PD)
END:VEVENT
BEGIN:VEVENT
DTSTART;TZID=America/Chicago:20250508T171500
DTEND;TZID=America/Chicago:20250508T183000
DTSTAMP:20260419T221940
CREATED:20250414T171831Z
LAST-MODIFIED:20250619T143135Z
UID:10000096-1746724500-1746729000@mtea.org
SUMMARY:MEAA Executive Council
DESCRIPTION:Your MEAA Executive Council meets the first Thursday of each month at 5:15pm at the MTEA Building. \n9/5/24 \n10/3/24 \n11/7/24 \n12/5/24 \n1/9/25 \n2/6/25 \n3/6/25 \n4/3/25 \n5/8/25 \n6/5/25
URL:https://mtea.org/event/meaa-executive-council-2/2025-05-08/
LOCATION:MTEA Building\, 5130 W. Vliet St.\, Milwaukee\, WI\, 53208\, United States
CATEGORIES:Leadership
END:VEVENT
BEGIN:VEVENT
DTSTART;TZID=America/Chicago:20250514T170000
DTEND;TZID=America/Chicago:20250514T183000
DTSTAMP:20260419T221940
CREATED:20250414T185505Z
LAST-MODIFIED:20250414T192407Z
UID:10000189-1747242000-1747247400@mtea.org
SUMMARY:MTEA Representative Assembly Meeting
DESCRIPTION:Your MTEA Representative Assembly meets the second Wednesday of each month starting at 5:00pm at the Washington Park Senior Center. \n9/11/24 – Convocation \n10/9/24 \n11/13/24 \n12/11/24 \n1/15/25 \n2/12/25 \n3/12/25 \n4/9/25 \n5/14/25 – Delegate Assembly \n6/11/25
URL:https://mtea.org/event/mtea-representative-assembly-meeting-2/2025-05-14/
LOCATION:Washington Park Senior Center\, 4420 W Vliet St\, Milwaukee\, WI\, 53208\, United States
CATEGORIES:Leadership
END:VEVENT
BEGIN:VEVENT
DTSTART;TZID=America/Chicago:20250520T170000
DTEND;TZID=America/Chicago:20250520T183000
DTSTAMP:20260419T221940
CREATED:20250424T211336Z
LAST-MODIFIED:20250520T182919Z
UID:10000211-1747760400-1747765800@mtea.org
SUMMARY:Don’t Panic Over Market Volatility
DESCRIPTION:Equipping yourself with an understanding of market volatility is vital. It is important to remember that volatility is a normal aspect of investing. Don’t let your emotions get in the way of your investment strategy. You will learn: \n\nImportant terms/definitions to remember when exploring the market.\nThe different common investment strategies.\nHistorical trends of the high and low points of the market.\nThe importance of diversification in your investments.
URL:https://mtea.org/event/dont-panic-over-market-volatility/
LOCATION:MTEA Building\, 5130 W. Vliet St.\, Milwaukee\, WI\, 53208\, United States
CATEGORIES:WEA Member Benefits
END:VEVENT
BEGIN:VEVENT
DTSTART;TZID=America/Chicago:20250522T170000
DTEND;TZID=America/Chicago:20250522T183000
DTSTAMP:20260419T221940
CREATED:20250424T211442Z
LAST-MODIFIED:20250424T211442Z
UID:10000212-1747933200-1747938600@mtea.org
SUMMARY:Get on Track to Financial Security
DESCRIPTION:This seminar is designed to teach employees of all ages the basics of investing and retirement planning. In this session we provide information about how to achieve long-term financial goals. You will also: \n\nDetermine your retirement income needs.\nLearn what retirement income sources are available to you.\nLearn the importance of reducing product fees and tips about how to make your money work harder for you.\nLearn about the advantages of different savings options (Roth IRA\, Traditional IRA\, TSA\, or 403(b)\, and deferred compensation.\nLearn how to properly diversify your investment dollars.\n\nPlease join us on Thursday\, May 22 from 5-6:30pm.  Registration is required and limited\, please click here to register.  This session will be on the main level of the MTEA Building\, no stairs.
URL:https://mtea.org/event/get-on-track-to-financial-security/
LOCATION:MTEA Building\, 5130 W. Vliet St.\, Milwaukee\, WI\, 53208\, United States
CATEGORIES:WEA Member Benefits
END:VEVENT
BEGIN:VEVENT
DTSTART;VALUE=DATE:20250526
DTEND;VALUE=DATE:20250527
DTSTAMP:20260419T221940
CREATED:20250521T134309Z
LAST-MODIFIED:20250521T134309Z
UID:10000213-1748217600-1748303999@mtea.org
SUMMARY:MTEA Closed
DESCRIPTION:The MTEA will be closed on Monday\, May 26 in observance of Memorial Day.  Our office will reopen on Tuesday\, May 27 at 8am.
URL:https://mtea.org/event/mtea-closed/
LOCATION:MTEA Building\, 5130 W. Vliet St.\, Milwaukee\, WI\, 53208\, United States
CATEGORIES:Office Closed
END:VEVENT
BEGIN:VEVENT
DTSTART;TZID=America/Chicago:20250604T170000
DTEND;TZID=America/Chicago:20250604T183000
DTSTAMP:20260419T221940
CREATED:20250414T185417Z
LAST-MODIFIED:20250619T144545Z
UID:10000176-1749056400-1749061800@mtea.org
SUMMARY:MTEA Executive Board
DESCRIPTION:Your MTEA Executive Board meets the first Wednesday of each month at 5:00pm at the MTEA Building. \n9/4/24 \n10/2/24 \n11/6/24 \n12/4/24 \n1/8/25 \n2/5/25 \n3/5/25 \n4/2/25 \n5/7/25 \n6/4/25
URL:https://mtea.org/event/mtea-executive-board-2/2025-06-04/
LOCATION:MTEA Building\, 5130 W. Vliet St.\, Milwaukee\, WI\, 53208\, United States
CATEGORIES:Leadership
END:VEVENT
BEGIN:VEVENT
DTSTART;TZID=America/Chicago:20250605T171500
DTEND;TZID=America/Chicago:20250605T183000
DTSTAMP:20260419T221940
CREATED:20250414T171831Z
LAST-MODIFIED:20250619T143135Z
UID:10000144-1749143700-1749148200@mtea.org
SUMMARY:MEAA Executive Council
DESCRIPTION:Your MEAA Executive Council meets the first Thursday of each month at 5:15pm at the MTEA Building. \n9/5/24 \n10/3/24 \n11/7/24 \n12/5/24 \n1/9/25 \n2/6/25 \n3/6/25 \n4/3/25 \n5/8/25 \n6/5/25
URL:https://mtea.org/event/meaa-executive-council-2/2025-06-05/
LOCATION:MTEA Building\, 5130 W. Vliet St.\, Milwaukee\, WI\, 53208\, United States
CATEGORIES:Leadership
END:VEVENT
BEGIN:VEVENT
DTSTART;TZID=America/Chicago:20250611T170000
DTEND;TZID=America/Chicago:20250611T183000
DTSTAMP:20260419T221940
CREATED:20250414T185505Z
LAST-MODIFIED:20250414T192407Z
UID:10000190-1749661200-1749666600@mtea.org
SUMMARY:MTEA Representative Assembly Meeting
DESCRIPTION:Your MTEA Representative Assembly meets the second Wednesday of each month starting at 5:00pm at the Washington Park Senior Center. \n9/11/24 – Convocation \n10/9/24 \n11/13/24 \n12/11/24 \n1/15/25 \n2/12/25 \n3/12/25 \n4/9/25 \n5/14/25 – Delegate Assembly \n6/11/25
URL:https://mtea.org/event/mtea-representative-assembly-meeting-2/2025-06-11/
LOCATION:Washington Park Senior Center\, 4420 W Vliet St\, Milwaukee\, WI\, 53208\, United States
CATEGORIES:Leadership
END:VEVENT
BEGIN:VEVENT
DTSTART;TZID=America/Chicago:20250702T120000
DTEND;TZID=America/Chicago:20250702T133000
DTSTAMP:20260419T221940
CREATED:20250619T140504Z
LAST-MODIFIED:20250619T140504Z
UID:10000214-1751457600-1751463000@mtea.org
SUMMARY:Retirement Planning
DESCRIPTION:Wisconsin public school employees approaching retirement typically have questions about what they need to do to prepare. This information is appropriate for those within 10+ years of retirement and will provide: \n\nAn overview of the sources of retirement income available to public school employees\, including the Wisconsin Retirement System\, Social Security\, and personal savings.\nInformation on how to determine your retirement income needs.\nAn understanding of common roadblocks to successful retirement planning.\nA pre-retirement checklist of important things to consider.\nTools and solutions for achieving retirement goals.\n\nPlease join us on Wednesday\, July 2 from 12-1:30pm at the MTEA Building.  This session will be held on the main level.  Registration is required\, please click here.
URL:https://mtea.org/event/retirement-planning/
LOCATION:MTEA Building\, 5130 W. Vliet St.\, Milwaukee\, WI\, 53208\, United States
CATEGORIES:WEA Member Benefits
END:VEVENT
BEGIN:VEVENT
DTSTART;VALUE=DATE:20250704
DTEND;VALUE=DATE:20250705
DTSTAMP:20260419T221940
CREATED:20250619T140613Z
LAST-MODIFIED:20250619T140613Z
UID:10000215-1751587200-1751673599@mtea.org
SUMMARY:MTEA Closed
DESCRIPTION:In observance of Independance Day\, July 4\, the MTEA will be closed.  We will reopen on Monday\, July 7 at 8am.
URL:https://mtea.org/event/mtea-closed-2/
LOCATION:MTEA Building\, 5130 W. Vliet St.\, Milwaukee\, WI\, 53208\, United States
CATEGORIES:Office Closed
END:VEVENT
BEGIN:VEVENT
DTSTART;TZID=America/Chicago:20250709T120000
DTEND;TZID=America/Chicago:20250709T133000
DTSTAMP:20260419T221940
CREATED:20250619T140744Z
LAST-MODIFIED:20250625T162722Z
UID:10000216-1752062400-1752067800@mtea.org
SUMMARY:Budgeting & Savings
DESCRIPTION:Having a budget is a key component of any financial plan. You can’t have a plan without a clear understanding of what money is coming in\, what is going out\, and where it is going. Developing a budget can empower you to take control of your finances. We discuss: \n\nThe benefits of a written budget and how to create one.\nHow to evaluate your income and read your pay stub.\nHow to categorize and reduce your expenses.\nHow to avoid common financial mistakes.\nThe importance of paying yourself first and how it can improve your financial future.\nThe value of employee benefits and how to use them.\nTips for managing debt.\nHow saving for the future is possible—and necessary.\n\nPlease join us on Wednesday\, July 9 from 12-1:30pm at the MTEA Building.  This session will be held on the main level.  Registration is required\, please click here.
URL:https://mtea.org/event/budgeting-savings/
LOCATION:MTEA Building\, 5130 W. Vliet St.\, Milwaukee\, WI\, 53208\, United States
CATEGORIES:WEA Member Benefits
END:VEVENT
BEGIN:VEVENT
DTSTART;TZID=America/Chicago:20250716T120000
DTEND;TZID=America/Chicago:20250716T133000
DTSTAMP:20260419T221940
CREATED:20250619T140856Z
LAST-MODIFIED:20250619T140856Z
UID:10000217-1752667200-1752672600@mtea.org
SUMMARY:Wisconsin Retirement System (WRS): Your State Pension Plan
DESCRIPTION:WRS\, the state pension plan\, will be a source of retirement income for most Wisconsin public school employees. Understanding this benefit will help educators better plan for their future. Learn to: \n\nRead/interpret your pension statement.\nCalculate your WRS pension benefit.\nChoose an appropriate annuity option.\nPurchase forfeited service.\nDetermine whether you will have a retirement income gap.\n\nPlease join us on Wednesday\, July 16 from 12-1:30pm at the MTEA Building.  This session will be held on the main level.  Registration is required\, please click here.
URL:https://mtea.org/event/wisconsin-retirement-system-wrs-your-state-pension-plan/
LOCATION:MTEA Building\, 5130 W. Vliet St.\, Milwaukee\, WI\, 53208\, United States
CATEGORIES:WEA Member Benefits
END:VEVENT
BEGIN:VEVENT
DTSTART;TZID=America/Chicago:20250730T110000
DTEND;TZID=America/Chicago:20250730T114500
DTSTAMP:20260419T221940
CREATED:20250619T155354Z
LAST-MODIFIED:20250619T155354Z
UID:10000235-1753873200-1753875900@mtea.org
SUMMARY:Long Term Care Options from a Healthcare Perspective
DESCRIPTION:Long-term care (LTC) has been called “the greatest uninsured financial risk today.” That’s because most costs for extended care needed during recuperation from strokes\, accidents\, illnesses\, and operations are not covered by health insurance or Medicare. Experts say 70% of those who reach age 65 will need some type of long-term care (LTC) during their lifetimes. Long-term care insurance may minimize the impact of any LTC expenses you may incur in retirement. \nJoin Eileen Dunn as she discusses options for elder care\, the role state\, and Federal programs in LTC\, and types of LTC insurance available. Eileen is an expert in geriatric and elder care and helps families determine the best options available for their loved ones. She has degrees in Social Work and Health Services Administration\, is certified through the National Academy of Certified Care Managers and is a member of the National Association of Professional Geriatric Care Managers. \nProgram administered by Associates of Clifton Park. Long-term care (LTC) insurance products are underwritten by multiple LTC insurers. \nPlease join us on Wednesday\, July 30 from 11-11:45am at the MTEA Building.  This session will be held on the main level.  Registration is required\, please click here. \n 
URL:https://mtea.org/event/long-term-care-options-from-a-healthcare-perspective/
LOCATION:MTEA Building\, 5130 W. Vliet St.\, Milwaukee\, WI\, 53208\, United States
CATEGORIES:WEA Member Benefits
END:VEVENT
BEGIN:VEVENT
DTSTART;TZID=America/Chicago:20250730T120000
DTEND;TZID=America/Chicago:20250730T133000
DTSTAMP:20260419T221940
CREATED:20250619T141018Z
LAST-MODIFIED:20250619T141018Z
UID:10000218-1753876800-1753882200@mtea.org
SUMMARY:Preparing for Retirement - Popular Seminar
DESCRIPTION:This comprehensive session is recommended for employees within 5-10 years of retirement and covers the different retirement planning solutions available and the implications of the decisions employees make as they approach retirement. The session covers: \n\nThe sources of retirement income available to public school employees including the Wisconsin Retirement System (WRS)\, Social Security\, and personal savings.\nThe various annuity options available from the Wisconsin Retirement System.\nRetirement timeline (including eligibility dates and requirements for WRS withdrawals\, health insurance\, etc.\nPersonal savings withdrawal issues and tax implications.\nCommon roadblocks to successful retirement planning.\nA pre-retirement checklist of important things to consider.\nTools and solutions to help employees reach their retirement goals.\n\nPlease join us on Wednesday\, July 30 from 12-1:30pm at the MTEA Building.  This session will be held on the main level.  Registration is required\, please click here.
URL:https://mtea.org/event/preparing-for-retirement-popular-seminar/
LOCATION:MTEA Building\, 5130 W. Vliet St.\, Milwaukee\, WI\, 53208\, United States
CATEGORIES:WEA Member Benefits
END:VEVENT
BEGIN:VEVENT
DTSTART;TZID=America/Chicago:20250813T123000
DTEND;TZID=America/Chicago:20250813T133000
DTSTAMP:20260419T221940
CREATED:20250619T141131Z
LAST-MODIFIED:20250813T140202Z
UID:10000219-1755088200-1755091800@mtea.org
SUMMARY:Get on Track to Financial Security
DESCRIPTION:This seminar is designed to teach employees of all ages the basics of investing and retirement planning. In this session we provide information about how to achieve long-term financial goals. You will also: \n\nDetermine your retirement income needs.\nLearn what retirement income sources are available to you.\nLearn the importance of reducing product fees and tips about how to make your money work harder for you.\nLearn about the advantages of different savings options (Roth IRA\, Traditional IRA\, TSA\, or 403(b)\, and deferred compensation.\nLearn how to properly diversify your investment dollars.\n\nPlease join us on Wednesday\, August 13 from 12-1:30pm at the MTEA Building.  This session will be held on the main level.  Registration is required\, please click here.
URL:https://mtea.org/event/get-on-track-to-financial-security-2/
LOCATION:MTEA Building\, 5130 W. Vliet St.\, Milwaukee\, WI\, 53208\, United States
CATEGORIES:WEA Member Benefits
END:VEVENT
BEGIN:VEVENT
DTSTART;TZID=America/Chicago:20250903T170000
DTEND;TZID=America/Chicago:20250903T183000
DTSTAMP:20260419T221940
CREATED:20250411T173858Z
LAST-MODIFIED:20250619T150059Z
UID:10000201-1756918800-1756924200@mtea.org
SUMMARY:MTEA Executive Board
DESCRIPTION:Your MTEA Executive Board meets the first Wednesday of each month at 5:00pm. \n9/3/25 \n10/1/25 \n11/5/25 \n12/3/25 \n1/7/26 \n2/4/26 \n3/4/26 \n4/6/26 \n5/7/26 \n6/4/26
URL:https://mtea.org/event/mtea-executive-board-5/2025-09-03/
LOCATION:MTEA Building\, 5130 W. Vliet St.\, Milwaukee\, WI\, 53208\, United States
CATEGORIES:Leadership
END:VEVENT
BEGIN:VEVENT
DTSTART;TZID=America/Chicago:20250904T170000
DTEND;TZID=America/Chicago:20250904T183000
DTSTAMP:20260419T221940
CREATED:20250619T142037Z
LAST-MODIFIED:20250718T163139Z
UID:10000116-1757005200-1757010600@mtea.org
SUMMARY:MSTA Executive Council
DESCRIPTION:Your MSTA Executive Council meets the first Thursday of each month at 5:00pm at the MTEA Building. \n9/4/25 \n10/2/25 \n11/6/25 \n12/4/25 \n1/8/26 \n2/5/26 \n3/5/26 \n4/9/26 \n5/7/26 \n6/4/26
URL:https://mtea.org/event/msta-executive-council-2-2/2025-09-04/
LOCATION:MTEA Building\, 5130 W. Vliet St.\, Milwaukee\, WI\, 53208\, United States
CATEGORIES:Leadership
END:VEVENT
BEGIN:VEVENT
DTSTART;TZID=America/Chicago:20250904T171500
DTEND;TZID=America/Chicago:20250904T183000
DTSTAMP:20260419T221940
CREATED:20250619T145713Z
LAST-MODIFIED:20250619T145713Z
UID:10000224-1757006100-1757010600@mtea.org
SUMMARY:MEAA Executive Council
DESCRIPTION:Your MEAA Executive Council meets the first Thursday of each month at 5:15pm at the MTEA Building. \n9/4/25 \n10/2/25 \n11/6/25 \n12/4/25 \n1/8/26 \n2/5/26 \n3/5/26 \n4/9/26 \n5/7/26 \n6/4/26
URL:https://mtea.org/event/meaa-executive-council/2025-09-04/
LOCATION:MTEA Building\, 5130 W. Vliet St.\, Milwaukee\, WI\, 53208\, United States
CATEGORIES:Leadership
END:VEVENT
BEGIN:VEVENT
DTSTART;TZID=America/Chicago:20250910T170000
DTEND;TZID=America/Chicago:20250910T190000
DTSTAMP:20260419T221940
CREATED:20250718T162618Z
LAST-MODIFIED:20260324T144604Z
UID:10000299-1757523600-1757530800@mtea.org
SUMMARY:MTEA Representative Assembly Meeting
DESCRIPTION:Your MTEA Representative Assembly meets the second Wednesday of each month starting at 5:00pm at the Washington Park Senior Center. \n9/10/25 – Convocation \n10/8/25 \n11/12/25 \n12/10/25 \n1/14/26 \n2/11/26 \n3/11/26 \n4/15/26 \n5/13/26 – Delegate Assembly \n6/10/26
URL:https://mtea.org/event/mtea-representative-assembly-meeting-3/2025-09-10/
LOCATION:Washington Park Senior Center\, 4420 W Vliet St\, Milwaukee\, WI\, 53208\, United States
CATEGORIES:Leadership
END:VEVENT
BEGIN:VEVENT
DTSTART;TZID=America/Chicago:20250915T150000
DTEND;TZID=America/Chicago:20250915T170000
DTSTAMP:20260419T221940
CREATED:20250905T131929Z
LAST-MODIFIED:20250911T133438Z
UID:10000263-1757948400-1757955600@mtea.org
SUMMARY:Teacher Resource Room
DESCRIPTION:We will also open up the MTEA Teacher Resource Room for new teachers (5 years in the district or less) to grab donated art supplies\, borders\, books and other materials to help get your classrooms set up.  The room will be open from 3-5pm\, members will need to leave the building by 5:30pm. \nSeptember: 15th – 19th\, 22nd – 26th \nOctober: 21st – 24th \nNovember: 17th – 21st \nDecember: 15th – 19th \n 
URL:https://mtea.org/event/teacher-resource-room/2025-09-15/
LOCATION:MTEA Building\, 5130 W. Vliet St.\, Milwaukee\, WI\, 53208\, United States
CATEGORIES:Membership
END:VEVENT
BEGIN:VEVENT
DTSTART;TZID=America/Chicago:20250916T150000
DTEND;TZID=America/Chicago:20250916T170000
DTSTAMP:20260419T221940
CREATED:20250905T131929Z
LAST-MODIFIED:20250911T133438Z
UID:10000264-1758034800-1758042000@mtea.org
SUMMARY:Teacher Resource Room
DESCRIPTION:We will also open up the MTEA Teacher Resource Room for new teachers (5 years in the district or less) to grab donated art supplies\, borders\, books and other materials to help get your classrooms set up.  The room will be open from 3-5pm\, members will need to leave the building by 5:30pm. \nSeptember: 15th – 19th\, 22nd – 26th \nOctober: 21st – 24th \nNovember: 17th – 21st \nDecember: 15th – 19th \n 
URL:https://mtea.org/event/teacher-resource-room/2025-09-16/
LOCATION:MTEA Building\, 5130 W. Vliet St.\, Milwaukee\, WI\, 53208\, United States
CATEGORIES:Membership
END:VEVENT
BEGIN:VEVENT
DTSTART;TZID=America/Chicago:20250917T150000
DTEND;TZID=America/Chicago:20250917T170000
DTSTAMP:20260419T221940
CREATED:20250905T131929Z
LAST-MODIFIED:20250911T133438Z
UID:10000265-1758121200-1758128400@mtea.org
SUMMARY:Teacher Resource Room
DESCRIPTION:We will also open up the MTEA Teacher Resource Room for new teachers (5 years in the district or less) to grab donated art supplies\, borders\, books and other materials to help get your classrooms set up.  The room will be open from 3-5pm\, members will need to leave the building by 5:30pm. \nSeptember: 15th – 19th\, 22nd – 26th \nOctober: 21st – 24th \nNovember: 17th – 21st \nDecember: 15th – 19th \n 
URL:https://mtea.org/event/teacher-resource-room/2025-09-17/
LOCATION:MTEA Building\, 5130 W. Vliet St.\, Milwaukee\, WI\, 53208\, United States
CATEGORIES:Membership
END:VEVENT
BEGIN:VEVENT
DTSTART;TZID=America/Chicago:20250918T150000
DTEND;TZID=America/Chicago:20250918T170000
DTSTAMP:20260419T221940
CREATED:20250905T131929Z
LAST-MODIFIED:20250911T133438Z
UID:10000266-1758207600-1758214800@mtea.org
SUMMARY:Teacher Resource Room
DESCRIPTION:We will also open up the MTEA Teacher Resource Room for new teachers (5 years in the district or less) to grab donated art supplies\, borders\, books and other materials to help get your classrooms set up.  The room will be open from 3-5pm\, members will need to leave the building by 5:30pm. \nSeptember: 15th – 19th\, 22nd – 26th \nOctober: 21st – 24th \nNovember: 17th – 21st \nDecember: 15th – 19th \n 
URL:https://mtea.org/event/teacher-resource-room/2025-09-18/
LOCATION:MTEA Building\, 5130 W. Vliet St.\, Milwaukee\, WI\, 53208\, United States
CATEGORIES:Membership
END:VEVENT
BEGIN:VEVENT
DTSTART;TZID=America/Chicago:20250919T150000
DTEND;TZID=America/Chicago:20250919T170000
DTSTAMP:20260419T221940
CREATED:20250905T131929Z
LAST-MODIFIED:20250911T133438Z
UID:10000267-1758294000-1758301200@mtea.org
SUMMARY:Teacher Resource Room
DESCRIPTION:We will also open up the MTEA Teacher Resource Room for new teachers (5 years in the district or less) to grab donated art supplies\, borders\, books and other materials to help get your classrooms set up.  The room will be open from 3-5pm\, members will need to leave the building by 5:30pm. \nSeptember: 15th – 19th\, 22nd – 26th \nOctober: 21st – 24th \nNovember: 17th – 21st \nDecember: 15th – 19th \n 
URL:https://mtea.org/event/teacher-resource-room/2025-09-19/
LOCATION:MTEA Building\, 5130 W. Vliet St.\, Milwaukee\, WI\, 53208\, United States
CATEGORIES:Membership
END:VEVENT
BEGIN:VEVENT
DTSTART;TZID=America/Chicago:20250922T150000
DTEND;TZID=America/Chicago:20250922T170000
DTSTAMP:20260419T221940
CREATED:20250905T131929Z
LAST-MODIFIED:20250911T133438Z
UID:10000268-1758553200-1758560400@mtea.org
SUMMARY:Teacher Resource Room
DESCRIPTION:We will also open up the MTEA Teacher Resource Room for new teachers (5 years in the district or less) to grab donated art supplies\, borders\, books and other materials to help get your classrooms set up.  The room will be open from 3-5pm\, members will need to leave the building by 5:30pm. \nSeptember: 15th – 19th\, 22nd – 26th \nOctober: 21st – 24th \nNovember: 17th – 21st \nDecember: 15th – 19th \n 
URL:https://mtea.org/event/teacher-resource-room/2025-09-22/
LOCATION:MTEA Building\, 5130 W. Vliet St.\, Milwaukee\, WI\, 53208\, United States
CATEGORIES:Membership
END:VEVENT
BEGIN:VEVENT
DTSTART;TZID=America/Chicago:20250922T170000
DTEND;TZID=America/Chicago:20250922T180000
DTSTAMP:20260419T221940
CREATED:20250903T204004Z
LAST-MODIFIED:20250905T131027Z
UID:10000261-1758560400-1758564000@mtea.org
SUMMARY:Know Your Rights Training
DESCRIPTION:MTEA Know Your Rights Training – In-Person on September 22\, 2025 or Virtual on October 6\, 2025\nMTEA proudly offers Know Your Rights (KYR) in-person training. Members will learn Know Your Rights information for home\, work\, school and public spaces. \nThe Trump administration aims to stoke fear in immigrant communities across this country through its complete disregard for due process to deport people who are undocumented or in the process of obtaining legal status. \nAll of us have constitutional rights we can exercise and the right to a free public education\, regardless of legal status. MTEA members will not let fear win! Education\, organizing and solidarity action are our way forward. \nMTEA members can attend this training to learn more about how we can protect our family members\, neighbors\, students and their families\, and fellow union members. \nJoin us in-person on Monday\, September 22nd at the MTEA Building or virtually on Monday\, October 6 from 5-6pm.  Please register below for the session you would like to attend.  The link for the virtual session will be sent out on Sunday\, October 5. \n\n                    Know Your Rights Training Registration FormFirst NameLast NameSchool/Worksite(s)PhoneHome Email (No MPS emails)Which session will you be attending? Select one Virtual - Tuesday\, April 21 Virtual - Tuesday\, May 19Are you a MTEA or MTEA-R Member? Yes No I Don't KnowSubmit Form
URL:https://mtea.org/event/know-your-rights-training/2025-09-22/
LOCATION:MTEA Building\, 5130 W. Vliet St.\, Milwaukee\, WI\, 53208\, United States
CATEGORIES:Organizing/Advocacy
END:VEVENT
BEGIN:VEVENT
DTSTART;TZID=America/Chicago:20250923T150000
DTEND;TZID=America/Chicago:20250923T170000
DTSTAMP:20260419T221940
CREATED:20250905T131929Z
LAST-MODIFIED:20250911T133438Z
UID:10000269-1758639600-1758646800@mtea.org
SUMMARY:Teacher Resource Room
DESCRIPTION:We will also open up the MTEA Teacher Resource Room for new teachers (5 years in the district or less) to grab donated art supplies\, borders\, books and other materials to help get your classrooms set up.  The room will be open from 3-5pm\, members will need to leave the building by 5:30pm. \nSeptember: 15th – 19th\, 22nd – 26th \nOctober: 21st – 24th \nNovember: 17th – 21st \nDecember: 15th – 19th \n 
URL:https://mtea.org/event/teacher-resource-room/2025-09-23/
LOCATION:MTEA Building\, 5130 W. Vliet St.\, Milwaukee\, WI\, 53208\, United States
CATEGORIES:Membership
END:VEVENT
BEGIN:VEVENT
DTSTART;TZID=America/Chicago:20250924T150000
DTEND;TZID=America/Chicago:20250924T170000
DTSTAMP:20260419T221940
CREATED:20250905T131929Z
LAST-MODIFIED:20250911T133438Z
UID:10000270-1758726000-1758733200@mtea.org
SUMMARY:Teacher Resource Room
DESCRIPTION:We will also open up the MTEA Teacher Resource Room for new teachers (5 years in the district or less) to grab donated art supplies\, borders\, books and other materials to help get your classrooms set up.  The room will be open from 3-5pm\, members will need to leave the building by 5:30pm. \nSeptember: 15th – 19th\, 22nd – 26th \nOctober: 21st – 24th \nNovember: 17th – 21st \nDecember: 15th – 19th \n 
URL:https://mtea.org/event/teacher-resource-room/2025-09-24/
LOCATION:MTEA Building\, 5130 W. Vliet St.\, Milwaukee\, WI\, 53208\, United States
CATEGORIES:Membership
END:VEVENT
END:VCALENDAR