BEGIN:VCALENDAR
VERSION:2.0
PRODID:-//MTEA - ECPv6.15.20//NONSGML v1.0//EN
CALSCALE:GREGORIAN
METHOD:PUBLISH
X-WR-CALNAME:MTEA
X-ORIGINAL-URL:https://mtea.org
X-WR-CALDESC:Events for MTEA
REFRESH-INTERVAL;VALUE=DURATION:PT1H
X-Robots-Tag:noindex
X-PUBLISHED-TTL:PT1H
BEGIN:VTIMEZONE
TZID:America/Chicago
BEGIN:DAYLIGHT
TZOFFSETFROM:-0600
TZOFFSETTO:-0500
TZNAME:CDT
DTSTART:20240310T080000
END:DAYLIGHT
BEGIN:STANDARD
TZOFFSETFROM:-0500
TZOFFSETTO:-0600
TZNAME:CST
DTSTART:20241103T070000
END:STANDARD
BEGIN:DAYLIGHT
TZOFFSETFROM:-0600
TZOFFSETTO:-0500
TZNAME:CDT
DTSTART:20250309T080000
END:DAYLIGHT
BEGIN:STANDARD
TZOFFSETFROM:-0500
TZOFFSETTO:-0600
TZNAME:CST
DTSTART:20251102T070000
END:STANDARD
BEGIN:DAYLIGHT
TZOFFSETFROM:-0600
TZOFFSETTO:-0500
TZNAME:CDT
DTSTART:20260308T080000
END:DAYLIGHT
BEGIN:STANDARD
TZOFFSETFROM:-0500
TZOFFSETTO:-0600
TZNAME:CST
DTSTART:20261101T070000
END:STANDARD
END:VTIMEZONE
BEGIN:VEVENT
DTSTART;TZID=America/Chicago:20250403T171500
DTEND;TZID=America/Chicago:20250403T183000
DTSTAMP:20260419T203204
CREATED:20250414T171831Z
LAST-MODIFIED:20250619T143135Z
UID:10000143-1743700500-1743705000@mtea.org
SUMMARY:MEAA Executive Council
DESCRIPTION:Your MEAA Executive Council meets the first Thursday of each month at 5:15pm at the MTEA Building. \n9/5/24 \n10/3/24 \n11/7/24 \n12/5/24 \n1/9/25 \n2/6/25 \n3/6/25 \n4/3/25 \n5/8/25 \n6/5/25
URL:https://mtea.org/event/meaa-executive-council-2/2025-04-03/
LOCATION:MTEA Building\, 5130 W. Vliet St.\, Milwaukee\, WI\, 53208\, United States
CATEGORIES:Leadership
END:VEVENT
BEGIN:VEVENT
DTSTART;TZID=America/Chicago:20250402T170000
DTEND;TZID=America/Chicago:20250402T183000
DTSTAMP:20260419T203204
CREATED:20250414T185417Z
LAST-MODIFIED:20250619T144545Z
UID:10000174-1743613200-1743618600@mtea.org
SUMMARY:MTEA Executive Board
DESCRIPTION:Your MTEA Executive Board meets the first Wednesday of each month at 5:00pm at the MTEA Building. \n9/4/24 \n10/2/24 \n11/6/24 \n12/4/24 \n1/8/25 \n2/5/25 \n3/5/25 \n4/2/25 \n5/7/25 \n6/4/25
URL:https://mtea.org/event/mtea-executive-board-2/2025-04-02/
LOCATION:MTEA Building\, 5130 W. Vliet St.\, Milwaukee\, WI\, 53208\, United States
CATEGORIES:Leadership
END:VEVENT
BEGIN:VEVENT
DTSTART;TZID=America/Chicago:20250313T120000
DTEND;TZID=America/Chicago:20250313T140000
DTSTAMP:20260419T203204
CREATED:20250328T235527Z
LAST-MODIFIED:20250414T171427Z
UID:10000008-1741867200-1741874400@mtea.org
SUMMARY:MTEA Representative Assembly Meeting
DESCRIPTION:Your MTEA Representative Assembly meets the second Wednesday of each month starting at 5:00pm at the Washington Park Senior Center. \n9/11/24 – Convocation \n10/9/24 \n11/13/24 \n12/11/24 \n1/15/25 \n2/12/25 \n3/12/25 \n4/9/25 \n5/14/25 – Delegate Assembly \n6/11/25
URL:https://mtea.org/event/mtea-representative-assembly-meeting/
LOCATION:Washington Park Senior Center\, 4420 W Vliet St\, Milwaukee\, WI\, 53208\, United States
CATEGORIES:Leadership
END:VEVENT
BEGIN:VEVENT
DTSTART;TZID=America/Chicago:20250306T171500
DTEND;TZID=America/Chicago:20250306T183000
DTSTAMP:20260419T203204
CREATED:20250414T171831Z
LAST-MODIFIED:20250619T143135Z
UID:10000142-1741281300-1741285800@mtea.org
SUMMARY:MEAA Executive Council
DESCRIPTION:Your MEAA Executive Council meets the first Thursday of each month at 5:15pm at the MTEA Building. \n9/5/24 \n10/3/24 \n11/7/24 \n12/5/24 \n1/9/25 \n2/6/25 \n3/6/25 \n4/3/25 \n5/8/25 \n6/5/25
URL:https://mtea.org/event/meaa-executive-council-2/2025-03-06/
LOCATION:MTEA Building\, 5130 W. Vliet St.\, Milwaukee\, WI\, 53208\, United States
CATEGORIES:Leadership
END:VEVENT
BEGIN:VEVENT
DTSTART;TZID=America/Chicago:20250227T110000
DTEND;TZID=America/Chicago:20250227T123000
DTSTAMP:20260419T203204
CREATED:20250211T052559Z
LAST-MODIFIED:20250329T000311Z
UID:10000004-1740654000-1740659400@mtea.org
SUMMARY:Women and Retirement
DESCRIPTION:Women are at a much higher risk of facing financial uncertainty in retirement and retiring with considerably less savings than men. This presentation will help you to understand the common financial hurdles women face and tips and resources to help you prepare to meet those challenges head on. \n\nRetirement Considerations.\nObstacles that women face in saving for retirement.\nStrategies and ways to overcome those obstacles.\nTips and Guidance to help you become more financially secure.\n\nPlease join us on Thursday\, February 27 from 5-6:30pm at the MTEA Building.  This session is on the main floor and space is limited.  Registration is required\, click this link to register.
URL:https://mtea.org/event/women-and-retirement/
LOCATION:MTEA Building\, 5130 W. Vliet St.\, Milwaukee\, WI\, 53208\, United States
CATEGORIES:WEA Member Benefits
END:VEVENT
BEGIN:VEVENT
DTSTART;TZID=America/Chicago:20250220T110000
DTEND;TZID=America/Chicago:20250220T123000
DTSTAMP:20260419T203204
CREATED:20250211T045755Z
LAST-MODIFIED:20250329T000305Z
UID:10000003-1740049200-1740054600@mtea.org
SUMMARY:MTEA Retirement Information Sessions
DESCRIPTION:A retirement information and explainer session for MTEA teacher unit and educational assistant unit members based on the “No Nonsense Retirement Guide.” \n\nInform members of the benefits that they have access to thru the employer.\nInform members of how to connect to these benefits thru the employer.\nInform members that MTEA will not under any circumstances provide financial advice of any kind and you should direct members where they can go for financial advice\, WEA Member Benefits etc.\n\nMTEA is providing this service based on the best information available to it at the time\, and members must contact MPS to learn more about their specific situation. \nRegister below for either session on Thursday\, February 20 or Tuesday\, March 11 at 5 pm at the MTEA Building.  Sessions are capped at 50 members with overflow given priority for the second date. After the second event we will determine if additional dates are needed.  Update: Both sessions are full.
URL:https://mtea.org/event/mtea-retirement-information-sessions/
LOCATION:MTEA Building\, 5130 W. Vliet St.\, Milwaukee\, WI\, 53208\, United States
CATEGORIES:Membership
END:VEVENT
END:VCALENDAR